Workbook
Name 계좌번호: #REF!
Name 급여정보: #REF!
Name 정산금: #REF!
Name 호봉: #REF!

Sheet 계약이행통합서약서
A1: 붙임1. 계약이행 통합서약서
A3: 계 약 명 : | H3: 계약금액 : | K3: 계약기간: | M3: ~ | N3: 완료일
A4: 업 체 명 : | D4: 사업자번호 : | H4: 연락처 : | K4: 대 표 자 :
A5: 소 재 지 :
A6: 계약보증금 : | D6: 계약보증기간 : | F6: ~ | G6: 완료일 | H6: 하자보증금 : | I6: =ROUNDDOWN(I3*2%,-1) -> 0 | K6: 하자보증기간 : | L6: 완료일자로부터 1년
B8: 구 분 | D8: 이 행 내 용 | N8: 확 인
A9: 1 | B9: 계약 일반조건 | D9: 「지방자치단체 입찰 및 계약 집행기준」 제9장 계약 일반조건을 준수합니다. | N9: 확인함
A10: 2 | B10: 조세포탈 | D10: 「지방자치단체를 당사자로 하는 계약에 관한 법률」 제31조의5에 따른 조세포탈 등을 한 자가 아님을 서약하며, 조세포탈 등을 한 자에 해당하여 유죄판결이 확정된 날부터 2년이 지나지 않은 사실이 발견된 때에는 계약을 해제ㆍ해지를 감수하겠으며, 「지방계약법 시행령」 제93조에 따라 부정당업자의 입찰참가자격 제한 처분을 받겠습니다. | N10: 확인함
A11: 3 | B11: 안전,보건관리 준수서약서 | D11: 우리 업체는 귀 기관의 계약을 수행함에 있어 산업재해예방을 위하여 「산업안전보건법, 중대재해처벌법」 등 안전·보건 법규에서 정한 필수사항을 철저히 준수할 것을 다음과 같이 서약합니다. 본 계약을 수행함에 있어 위에 언급한 내용대로 계약을 성실히 이행할 것이며, 이행하지 않을 경우 계약해지, 입찰참가자격 제한조치 등 불이익 처분을 받더라도 하등의 이의를 제기하지 아니할 것을 확약하고, 사업 수행 전 안전·보건관리계획서를 해당 시 제출하고 사업이행 시 귀 기관의 안전보건관리 활동과 점검에 적극 협조하겠습니다. | N11: 확인함
A12: 4 | B12: 인권존중 서약서 | D12: 1. 당사는 직원을 고용함에 있어 성별, 인종, 종교, 국적, 지역, 학력 등의 이유로 불합리한 차별을 하지 않겠습니다. 2. 당사는 직원들의 결사 및 단체교섭의 자유를 적극적으로 보장하겠습니다. 3. 당사는 직원들에게 안전하고 위생적인 근무환경을 제공토록 노력하겠습니다. 4. 당사는 직원의 자발적 동의 없이 어떠한 형태의 강제노동도 금지하겠습니다. 5. 당사는 안동시, 안동시시설관리공단, 언론사, 업무계약자, 시민단체, 시민 등 모든 이해관계자들의 인권존중을 최우선으로 하겠습니다. 6. 당사의 사업이 행해지는 지역에서 현지 주민의 생명권, 안전권 및 재산 소유권을 존중하고 보호하겠습니다. 7. 당사는 국내외 환경법규를 준수하고 환경보호에 앞장서겠습니다. 8. 당사의 재화와 서비스를 이용하는 소비자 인권보호를 위해 노력하겠습니다. 9. 당사의 중대한 인권침해로 인해 안동시시설관리공단 업무수행에 지장이 발생할 경우 공단의 시정 조치에 적극적으로 협조하겠습니다. 10. 공단의 인권보호 및 인권존중 정책을 충분히 이해하고 당사는 인권과 관련한 공단의 점검요구가 있을 경우 이를 적극적으로 수용하겠습니다. 위 내용은 계약에 앞서 상호신뢰를 바탕으로 한 약속으로서 반드시 지킬 것을 서약합니다. | N12: 확인함
A14: 5 | B14: 청렴서약서 | D14: 『지방자치단체를 당사자로 하는 계약에 관한 법률』제6조의2에 따라 안동시시설관리공단에서 발주하는 모든 공사, 물품 및 용역 등의 입찰(견적제출 포함), 낙찰, 계약의 체결 및 이행, 「지방자치단체를 당사자로 하는 계약에 관한 법률」제16조에 따른 감독, 제17조에 따른 검사 등의 과정(준공·납품 이후를 포함한다)에 참여한 당사 임직원과 대리인은 아래 각 호의 청렴서약 조건을 준수할 것이며, 이를 위반할 때에는 입찰·낙찰을 취소하거나 계약을 해제·해지 및 부정당업자의 입찰 참가자격 제한 등의 불이익을 감수하고, 이에 민·형사상 이의를 제기하지 않을 것임을 약정합니다. 1. 직접 또는 간접적인 사례, 증여, 금품․향응 등(친인척 등에 대한 부정한 취업 제공 포함)을 제공 또는 약속하거나 수수하지 않겠습니다. 2. 입찰가격의 사전협의 또는 특정인의 낙찰을 위한 담합 등 입찰의 자유경쟁을 방해하는 행위나 불공정한 행위를 하지 않겠습니다. 3. 공정한 직무수행을 방해하는 알선․청탁을 통하여 입찰 또는 계약과 관련된 특정 정보의 제공을 요구하거나 받는 행위를 하지 않겠습니다. | N14: 확인함
A16: 6 | B16: 계약 보증금 지급각서 | D16: 「지방자치단체를 당사자로 하는 계약에 관한 법률 시행령」제51조 및 제54조에 따라 계약보증금 세입조치 사유 발생시 즉시 해당하는 금액을 「지방자치단체를 당사자로 하는 계약에 관한 법률 시행령」제15조 3항에 의거 현금 납부 하겠습니다. | N16: 확인함
A17: 7 | B17: 하자 보증금 지급각서 | D17: 「지방계약법 시행규칙」 제68조 및 제70조에 따름 「지방자치단체를 당사자로 하는 계약에 관한 법률」제 21조 및 시행령 제71조에 따라 하자보수보증금을 귀 공단에 귀속시켜야 할 사유 발생시 즉시 해당하는 금액을 현금으로 납부 하겠습니다. | N17: 확인함
A18: 8 | B18: 수의계약 체결 제한 여부확인서 | D18: ■ 공직자의 이해충돌 방지제도 운영지침 [별지 제9호 서식] 수의계약 체결 제한 확인 사항 | N18: 확인함
D19: 1 | E19: 발주기관의 소속 고위공직자, 배우자, 고위공직자의 직계존속·비속 또는 생계를 같이하는 배우자의 직계존속·비속에 해당하는가? | N19: 확인함
D20: 2 | E20: 계약 업무을 법령상·사실상 담당하는 공직자, 배우자, 공직자의 직계존속·비속 또는 생계를 같이하는 배우자의 직계존속·비속에 해당하는가? | N20: 확인함
D21: 3 | E21: 발주기관(산하기관)의 감독기관 소속 고위공직자, 배우자, 고위공직자의 직계존속·비속 또는 생계를 같이하는 배우자의 직계존속·비속에 해당하는가? | N21: 확인함
D22: 4 | E22: 발주기관(자회사)의 모회사 소속 고위공직자, 배우자, 고위공직자의 직계존속·비속 또는 생계를 같이하는 배우자의 직계존속·비속에 해당하는가? | N22: 확인함
D23: 5 | E23: 상임위원회 위원의 국회의원, 배우자, 국회의원의 직계존속·비속 또는 생계를 같이하는 배우자의 직계존속·비속에 해당하는가? | N23: 확인함
D24: 6 | E24: 공공기관을 감사 또는 조사하는 지방의회의 의원, 배우자, 의원의 직계존속·비속 또는 생계를 같이하는 배우자의 직계존속·비속에 해당하는가? | N24: 확인함
D25: 7 | E25: 1~6까지 중 하나에 해당하는 사람이 대표자인 법인 또는 단체 해당하는가? | N25: 확인함
D26: 8 | E26: 1~6까지 어느 하나에 해당하는 사람과 특수한 관계의 사업자(공직자, 배우자, 공직자의 직계존속·비속, 생계를 같이하는 배우자의 직계존속·비속이 단독으로 또는 합산하여 발행주식 총수의 100분의 30 이상, 출자지분 총수의 100분의 30 이상, 자본금 총액의 100분의 50 이상을 소유하고 있는 법인 또는 단체)에 해당하는가? | N26: 확인함
A27: 9 | B27: 수의계약 각서 | D27: 「지방자치단체 입찰 및 계약 집행기준」 제5장 수의계약 운영요령 별지 제1호 상기 본인(법인)은 귀 기관과 수의계약을 체결함에 있어서 붙임 배제사유 중 어느 사유에도 해당되지 않으며 차후에 이러한 사실이 발견된 경우 계약의 해제·해지 및 부정당업자 제재 처분을 받아도 하등의 이유를 제기하지 않겠습니다. 붙임 : 수의계약 배제사유 1부 | N27: 확인함
E28: 붙임 : 수의계약 배제사유
A29: ① 견적서 제출 마감일 현재 부도·파산·해산·영업정지 등이 확정된 경우 ② 입찰참가자격 제한기간 중에 있는 자(법 제31조 제5항에 해당되는 경우 예외) ③ 견적서 제출 마감일을 기준으로 법 제31조 또는 다른 법령에 따라 부실이행, 담합행위, 입찰․계약 서류의 허위․위조 제출, 입찰·낙찰·계약이행 관련 뇌물 제공으로 부정당업자 제재 처분을 받고 그 종료일로부터 3개월이 지나지 아니한 자(법 제31조 제5항에 해당되는 경우 예외) ④ 공사 또는 기술용역의 경우 기술자 보유현황이 관련법령에 따른 업종등록 기준에 미달하는 자 ※ 기술자보유현황의 심사는「낙찰자결정기준」제1장 입찰참가자격 사전심사기준 제5절 “4”의 그밖에 해당공사 수행능력상 결격여부, 제2장의2 기술·학술연구 용역 적격심사 세부기준 <별표>의 기술인력 평가방법을 준용한다. 이때 ‘입찰공고일’은 ‘안내공고일’로 ‘적격심사서류 제출마감일’은 ‘견적서 제출마감일’로 본다. ⑤ 견적서 제출 마감일 기준 최근 3개월 이내에 해당 지방자치단체의 입찰․계약 및 그 이행과 관련하여 10일 이상 지연배상금 부과, 정당한 이행명령 거부, 불법하도급, 5회 이상 하자보수 또는 물의를 일으키는 등 신용이 떨어져 계약 체결이 곤란하다고 판단되는 자 ⑥ 견적서 제출 마감일 기준 최근 3개월 이내에 해당 지방자치단체와의 계약 및 그 이행과 관련하여 정당한 이유 없이 계약에 응하지 아니하거나 포기서를 제출한 사실이 있는 자 ※ 정당한 이유 없이 계약을 체결하지 아니하는 경우는 법 제31조에 따른 입찰참가자격 제한에는 해당되지 아니하나 수의계약 배제사유에 해당됨. ⑦ 수의계약 체결일 현재 법 제33조에 해당하는 자 1. 지방자치단체의 장 또는 지방의회의원의 배우자인 사업자(법인은 대표자) 2. 지방자치단체의 장 또는 지방의회의원(배우자 포함)의 직계 존·비속인 사업자 3. 지방자치단체의 장 또는 지방의회의원이 자본금 총액의 50%이상을 소유한 자 4. 지방자치단체의 장 또는 지방의회의원 가족(배우자, 직계존·비속)의 합산금액이 자본금 총액의 50% 이상을 소유한 사업자 5. 지방자치단체의 장 또는 지방의회의원 소유업체의 계열회사 등 ⑧ 발주기관이 제한한 자격요건 등을 충족하지 아니한 자 ⑨ 그밖에 계약담당자가 계약이행능력이 없다고 판단되는 명백한 증거가 있는 자 ⑩ 「재난 및 안전관리 기본법」제60조에 따라 특별재난지역으로 선포된 지역의 재난복구공사(용역)의 경우 결격여부 심사일 현재 계약금액 5천만원 이상 해당업종 관급공사 또는 계약금액 2천만원 이상 관급용역이 3건 이상인 자. 다만, 동시에 여러건의 수의계약 체결 예정자로 선정된 경우에는 기존 계약을 포함하여 3건까지 수의계약을 체결할 수 있다. (단, 제3절의 “1”에 따른 2인 이상 견적서 제출 수의계약에 한한다)
A39: 「공직자의 이해충돌 방지법」 제12조에 따른 수의계약 체결 제한에 대하여 위와 같이 확인합니다. 만약 위 사항이 사실과 다른 경우에는 어떠한 처벌이나 불이익도 감수할 것을 서약합니다.
B40: 상기 ‘계약이행 통합서약서’ 내용을 확인하였고 이에 동의합니다.
E41: =E6 -> 0
H42: 계약상대자 | I42: 업체명: | K42: =B4 -> 0
I43: 대표: | K43: =L4 -> 0 | N43: (인)
A44: 안동시시설관리공단 (분임)재무관 귀하

Sheet 계약보증금지급각서
B2: 계약보증금지급각서
B3: 1. 건 명 : | C3: =#REF! -> #REF!
B4: 2. 계 약 금 액 : | C4: =" 금"&NUMBERSTRING(E4,1)&"원" -> #REF! | E4: =#REF! -> #REF!
B5: 3. 계약 보증금 : | C5: =" 금"&NUMBERSTRING(E5,1)&"원" -> #REF! | E5: =#REF! -> #REF!
B6: 4. 계약보증기간 : | C6: =#REF! -> #REF!
B8: 상기 건을 계약함에 있어 지방자치단체를당사자로하는계약에관한
B9: 법률시행령 제53조 3항에 의거 계약보증금을 면제받았으나, 계약상의
B10: 의무를 이행하지 아니하여 계약보증금을 지방자치단체에 귀속시킬
B11: 사유가 발생한 때에는 지방자치단체를당사자로하는계약에관한법률시행령
B12: 제51조에 해당하는 계약보증금을 지방자치단체를당사자로하는계약에
B13: 관한법률 제15조 3항에 의거 납부할 것을 확약합니다.
B17: =#REF! -> #REF!
B19: 상호또는법인명칭 : | D19: =#REF! -> #REF!
B20: 주 소 : | D20: =#REF! -> #REF!
B21: 대 표 : | D21: =#REF!&" "&"(인)" -> #REF!
B22: 사 업 자 등록번호 : | D22: =#REF! -> #REF!
A24: 안동시시설관리공단 재무관 귀하

Sheet 각서
B1: <별지 1>
G2: 각 서
B4: 업 체 명 | E4: =#REF! -> #REF!
B5: 대 표 자 | E5: =#REF! -> #REF!
B6: 소 재 지 | E6: =#REF! -> #REF!
B7: 업종(등록) | E7: 서비스업
B9: 상기 본인(법인)은 귀 기관과 수의계약을 체결함에 있어서 붙임 배제사유 중 어느 사유에도 해당되지 않으며 차후에 이러한 사실이 발견된 경우 계약의 해제․해지 및 부정당업자 제재 처분을 받아도 하등의 이유를 제기하지 않겠습니다.
B20: 붙임 : <별표1> 수의계약 배제사유 1부.
F23: =#REF! -> #REF!
J25: 업체명 : | L25: =#REF! -> #REF!
J26: 대표자 : | L26: =#REF! -> #REF! | N26: (인)
B29: 안동시시설관리공단 이사장 귀하
B31: <별표 1>
E32: 수의계약 배제사유
B33: ① 견적서 제출 마감일 현재 부도·파산·해산·영업정지 등이 확정된 경우 ② 입찰참가자격 제한기간 중에 있는 자(법 제31조 제5항에 해당되는 경우 예외) ③ 견적서 제출 마감일을 기준으로 시행령 제92조 또는 다른 법령에 따라 부실이행, 담합행위, 입찰․계약 서류의 허위․위조 제출, 입찰·낙찰·계약이행 관련 뇌물 제공으로 부정당업자 제재 처분을 받고 그 종료일로부터 6개월이 지나지 아니한 자(법 제31조 제5항에 해당되는 경우 예외) ④ 공사 또는 기술용역의 경우 기술자 보유현황이 관련법령에 따른 업종등록 기준에 미달하는 자 ※ 기술자보유현황의 심사는「낙찰자결정기준」제2장 시설공사 적격심사 세부기준 <별지 2>의 그밖에 해당공사 수행능력상 결격여부, 제3장 기술용역 적격심사 세부기준 <별표>의 기술인력 평가방법을 준용한다. 이때 ‘입찰공고일’은 ‘안내공고일’로 ‘적격심사서류 제출마감일’은 ‘견적서 제출마감일’로 본다. ⑤ 견적서 제출 마감일 기준 최근 3개월 이내에 해당 지방자치단체의 입찰․계약 및 그 이행과 관련하여 10일 이상 지연배상금 부과, 정당한 이행명령 거부, 불법하도급, 5회 이상 하자보수 또는 물의를 일으키는 등 신용이 떨어져 계약 체결이 곤란하다고 판단되는 자 ⑥ 견적서 제출 마감일 기준 최근 3개월 이내에 해당 지방자치단체와의 계약 및 그 이행과 관련하여 정당한 이유 없이 계약에 응하지 아니하거나 포기서를 제출한 사실이 있는 자 ※ 정당한 이유 없이 계약을 체결하지 아니하는 경우는 시행령 제92조 제1항 제6호에 따른 입찰참가자격 제한에는 해당되지 아니하나 수의계약 배제사유에 해당됨. ⑦ 수의계약 체결일 현재 법 제33조에 해당하는 자 1. 지방자치단체의 장 또는 지방의회의원의 배우자인 사업자(법인은 대표자) 2. 지방자치단체의 장 또는 지방의회의원(배우자 포함)의 직계 존·비속인 사업자 3. 지방자치단체의 장 또는 지방의회의원이 자본금 총액의 50%이상을 소유한 자 4. 지방자치단체의 장 또는 지방의회의원 가족(배우자, 직계존·비속)의 합산금액이 자본금 총액의 50% 이상을 소유한 사업자 5. 지방자치단체의 장 또는 지방의회의원 소유업체의 계열회사 등 ⑧ 발주기관이 제한한 자격요건 등을 충족하지 아니한 자 ⑨ 그밖에 계약담당자가 계약이행능력이 없다고 판단되는 명백한 증거가 있는 자 ⑩ 재난복구공사(용역)의 경우 결격여부 심사일 현재 계약금액 5천만원 이상 해당업종 관급공사 또는 계약금액 2천만원 이상 관급용역이 3건 이상인 자 (단, 제3절의 “1”에 따른 2인 이상 견적서 제출 수의계약에 한한다)

Sheet 청렴계약 이행각서
B2: 사업자용
C3: 청렴계약 이행각서
B5: 당사는「부패 없는 투명한 기업경영과 공정한 행정」이 사회발전과 국가 경쟁력에 중요한 관건이 됨을 깊이 인식하며, 국제적으로도 OECD뇌물방지 협약이 발효되었고 부패기업 및 국가에 대한 제재가 강화되는 추세에 맞추어 청렴계약 취지에 적극 호응하여 안동시에서 발주하는 모든 공사, 용역, 물품 등의 입찰에 참여함에 있어 당사 임직원과 대리인은 1. 입찰가격의 유지나 특정인의 낙찰을 위한 담합을 하거나 다른 업체와 협정, 결의, 합의하여 입찰의 자유경쟁을 부당하게 저해하는 일체의 불공정한 행위를 않겠습니다. ㅇ 이를 위반하여 경쟁입찰에 있어서 특정인의 낙찰을 위하여 담합을 주도한 것이 사실로 드러날 경우 안동시시설관리공단에서 발주하는 입찰에 입찰참가자격제한 처분을 받은 날로부터 1년 이상 2년 이하 동안 참가하지 않겠으며 ㅇ 경쟁입찰에 있어서 입찰자간에 서로 상의하여 미리 입찰가격을 협정하거나 특정인의 낙찰을 위하여 담합을 한 사실이 드러날 경우 안동시설관리공단이 시행하는 입찰에 입찰참가자격 제한 처분을 받은 날로부터 6월 이상 1년 미만 동안 참여하지 않고 ㅇ 위와 같이 담합 등 불공정행위를 한 사실이 드러날 경우 「독점규제 및 공정거래에 관한 법률」에 따라 공정거래위원회에 고발하여 과징금 등을 부과토록 하는데 일체의 이의를 제기하지 않겠습니다. 2. 입찰 ․ 계약체결 및 계약이행 과정에서 관계직원에게 직 ․ 간접적으로 금품 ․ 향응 등(친인척 등에 대한 부정한 취업 제공 포함)의 부당한 이익을 제공하지 않겠으며, 이를 위반하여 입찰, 낙찰, 계약체결 및 계약이행과 관련하여 관계직원에게 금품, 향응 등을 제공한 사실이 드러날 경우에는 안동시시설관리공단이 시행하는 입찰에 입찰참가자격제한 처분을 받은 날로부터 1년 이상 2년 이하의 기간 동안 입찰에 참가하지 않겠습니다.
B38: 3. 입찰, 계약체결 및 계약이행과 관련하여 관계직원에게 금품, 향응 등(친인척 등에 대한 부정한 취업 제공 포함)을 제공한 사실이 드러날 경우에는 계약체결 이전의 경우에는 낙찰자 결정 취소, 계약이행 전에는 계약취소, 계약이행 이후에는 당해 계약의 전부 또는 일부계약을 해제 또는 해지하여도 감수하겠으며, 민 ․ 형사상 이의를 제기하지 않겠습니다. 4. 회사 임 ․ 직원이 관계 직원에게 금품, 향응 등을 제공하거나 담합 등 불공정 행위를 하지 않도록 하는 회사윤리강령과 내부비리 제보자에 대해서도 일체의 불이익처분을 하지 않는 사규를 제정토록 노력하겠습니다. 위 청렴계약 서약은 상호신뢰를 바탕으로 한 약속으로서 반드시 지킬 것이며, 낙찰자로 결정될 시 본 서약내용을 그대로 계약특수조건으로 계약하여 이행하고, 입찰참가자격 제한, 계약해지 등 안동시설관리공단의 조치와 관련하여 당사가 안동시설관리공단을 상대로 손해배상을 청구하거나 당사를 배제하는 입찰에 관하여 민 ․ 형사상 어떠한 이의도 제기하지 않을 것을 서약합니다.
D62: =#REF! -> #REF!
E64: 서 약 자 : | F64: 대표 | G64: =#REF! -> #REF! | H64: (인)
B66: 안동시시설관리공단 이사장 귀하

Sheet 인권존중 서약서
D4: 인권존중 서약서
B6: 1. 당사는 직원을 고용함에 있어 성별, 인종, 종교, 국적, 지역, 학력 등의 이유로 불합리한 차별을 하지 않겠습니다. 2. 당사는 직원들의 결사 및 단체교섭의 자유를 적극적으로 보장하겠습니다. 3. 당사는 직원들에게 안전하고 위생적인 근무환경을 제공토록 노력하겠습니다. 4. 당사는 직원의 자발적 동의 없이 어떠한 형태의 강제노동도 금지하겠습니다. 5. 당사는 안동시, 안동시시설관리공단, 언론사, 업무계약자, 시민단체, 시민 등 모든 이해관계자들의 인권존중을 최우선으로 하겠습니다. 6. 당사의 사업이 행해지는 지역에서 현지 주민의 생명권, 안전권 및 재산 소유권을 존중하고 보호하겠습니다. 7. 당사는 국내외 환경법규를 준수하고 환경보호에 앞장서겠습니다. 8. 당사의 재화와 서비스를 이용하는 소비자의 인권보호를 위해 노력하겠습니다. 9. 당사의 중대한 인권침해로 인해 안동시시설관리공단 업무수행에 지장이 발생할 경우 공단의 시정 조치에 적극적으로 협조하겠습니다. 10. 안동시시설관리공단의 인권보호 및 인권존중 정책을 충분히 이해하고 당사는 인권과 관련한 공단의 점검요구가 있을 경우 이를 적극적으로 수용하겠습니다. 위 내용은 계약에 앞서 상호신뢰를 바탕으로 한 약속으로서 반드시 지킬 것을 서약합니다.
D33: =각서!F23 -> #REF!
E35: 업체명 : | F35: =#REF! -> #REF!
E36: 대표자 : | F36: =#REF! -> #REF! | G36: (인)
B38: 안동시시설관리공단 이사장 귀하

Sheet 수의계약 제한 여부
B2: ■ 공직자의 이해충돌 방지제도 운영지침 [별지 제9호 서식]
B3: 수의계약 체결 제한 여부 확인서
B4: • 해당하는 [ ]에 √ 표시를 합니다. (1쪽)
B5: 발주자 | D5: 발주기관 | E5: 안동시시설관리공단 | F5: 발주부서 | G5: =#REF! -> #REF! | I5: 발주날짜 | L5: 2025. 03. 07.
D6: 발주내용 | J6: [ ] 공사 [v] 용역
D7: =#REF! -> #REF! | J7: [ ] 물품 [ ] 기타
D8: 수의계약 사유
D9: 지방계약법 시행령 제25조 1항 5호 나목
B11: 계약상대자 (확인인) | D11: 성명 | E11: =#REF! -> #REF! | F11: 소속 | G11: =#REF! -> #REF! | J11: [ ] 개인 [ ] 법인
J12: [ ] 단체 [ ] 기타
D13: 연락처 | E13: =#REF! -> #REF! | F13: 주소 | G13: =#REF! -> #REF!
B16: 수의계약 체결 제한 확인사항
B17: 1 | C17: 발주기관의 소속 고위공직자, 배우자, 고위공직자의 직계존속·비속 또는 생계를 같이하는 배우자의 직계존속·비속에 해당하는가? | K17: [ ] 예 [v] 아니오
K18: [ ] 해당없음
B19: 2 | C19: 계약 업무을 법령상·사실상 담당하는 공직자, 배우자, 공직자의 직계존속·비속 또는 생계를 같이하는 배우자의 직계존속·비속에 해당하는가? | K19: [ ] 예 [v] 아니오
K20: [ ] 해당없음
B21: 3 | C21: 발주기관(산하기관)의 감독기관 소속 고위공직자, 배우자, 고위공직자의 직계존속·비속 또는 생계를 같이하는 배우자의 직계존속·비속에 해당하는가? | K21: [ ] 예 [v] 아니오
K22: [ ] 해당없음
B23: 4 | C23: 발주기관(자회사)의 모회사 소속 고위공직자, 배우자, 고위공직자의 직계존속·비속 또는 생계를 같이하는 배우자의 직계존속·비속에 해당하는가? | K23: [ ] 예 [v] 아니오
K24: [ ] 해당없음
B25: 5 | C25: 상임위원회 위원의 국회의원, 배우자, 국회의원의 직계존속·비속 또는 생계를 같이하는 배우자의 직계존속·비속에 해당하는가? | K25: [ ] 예 [v] 아니오
K26: [ ] 해당없음
B27: 6 | C27: 공공기관을 감사 또는 조사하는 지방의회의 의원, 배우자, 의원의 직계존속·비속 또는 생계를 같이하는 배우자의 직계존속·비속에 해당하는가? | K27: [ ] 예 [v] 아니오
K28: [ ] 해당없음
B29: 7 | C29: 부터 까지 어느 하나에 해당하는 사람이 대표자인 법인 | K29: [ ] 예 [v] 아니오
C30: 또는 단체에 해당하는가? | K30: [ ] 해당없음
B31: 8 | C31: 부터 까지 어느 하나에 해당하는 사람과 특수한 관계의 사업자(공직자, 배우자, 공직자의 직계존속·비속, 생계를 같이하는 배우자의 직계존속·비속이 단독으로 또는 합산하여 발행주식 총수의 100분의 30 이상, 출자지분 총수의 100분의 30 이상, 자본금 총액의 100분의 50 이상을 소유하고 있는 법인 또는 단체)에 해당하는가? | K31: [ ] 예 [v] 아니오
K32: [ ] 해당없음
B33: 「공직자의 이해충돌 방지제도」제9조에 따른 수의계약 체결 제한에 대하여 위와 같이 확인합니다. 만약 위 사항이 사실과 다른 경우에는 어떠한 처벌이나 불이익도 감수할 것을 서약합니다.
B36: =#REF! -> #REF!
B37: 안동시시설관리공단이사장 귀하 | F37: 계약상대자(확인인) | J37: =#REF! -> #REF! | L37: (서명 또는 인)
B38: 210mm×297mm[일반용지 60g/㎡(재활용품)]

Sheet 하자보증금지급각서
B2: 하자보수보증금 지급각서
B3: 1. 계 약 건 명 : | C3: =계약보증금지급각서!C3 -> #REF!
B4: 2. 계 약 금 액 : | C4: =" 금"&NUMBERSTRING(E4,1)&"원" -> #REF! | E4: =#REF! -> #REF!
B5: 3. 계 약 일 자 : | C5: =#REF! -> #REF!
B6: 4. 착 수 일 자 : | C6: =#REF! -> #REF!
B7: 5. 완 료 일 자 : | C7: =#REF! -> #REF!
B8: 6. 하자 보증금 : | C8: =" 금"&NUMBERSTRING(F8,1)&"원" -> #REF! | F8: =E4*2% -> #REF!
B9: 7. 하자담보책임기간 : | D9: =#REF! & " ~ 2026. . ." -> #REF!
B10: 8. 면 제 사 유 : | C10: 지방자치단체를 당사자로 하는 계약에 관한 법률
B11: 시행규칙 제70조 제2항 제3호의 규정에 의함(3천만원 이하인 계약)
B12: 위 건에 대하여 귀 공단과 하자보수를 이행함에 있어 지방자치단체
B13: 를 당사자로 하는 계약에 관한 법률에 의거 하자보수보증금을 면제받
B14: 고 계약상의 의부 불이행 또는 기타사유로 인하여 보증금의 국가귀속
B15: 사유가 발생한 때에는 지방자치단체를 당사자로 하는 계약에 관한 법
B16: 률에 제21조 제1항에 의거 하자보증금에 해당하는 금액을 지체 없이
B17: 납부할 것을 확약하고 이에 각서를 제출합니다.
B19: 2025년 월 일
B21: 상 호 : | E21: =계약보증금지급각서!D19 -> #REF!
B22: 주 소 : | E22: =계약보증금지급각서!D20 -> #REF!
B23: 대 표 : | E23: =계약보증금지급각서!D21 -> #REF!
B24: 전 화 : | E24: =#REF! -> #REF!
A26: 안동시시설관리공단 재무관 귀하
